Workbook

Sheet 別添1 原材料等の価格高騰
A1: 黄色セル：必ず記載いただきたい箇所 | K1: 別添１
A2: ベージュ色セル：必要な場合に記載いただきたい箇所
A5: 業種名： | F5: 所管： | G5: 省 | I5: 局・庁 | K5: 課・室
A7: 日本標準産業分類（第14回改訂版）
A8: 分 類 番 号： | F8: 担当者： | H8: TEL： | J8: 内線：
A11: （１）業種・業界の状況
A12: ① 主要原材料等価格の高騰が当該業種に属する相当数の中小企業者の事業活動に支障を生じている場合には、その内容を記述。また、今後の動向についても記述。
A22: ② 主要原材料等価格の高騰に対する業界の自主努力による対策を講じている場合には、その内容を記述。
A33: （２）調査対象中小企業の割合
C34: は、自動計算されるため入力不可。
E36: 令和８年 調査時点 （令和８年 月） | F36: 備考
B37: 中小企業数(A) | F37: 出典
F38: データが推計による場合の推計方法
B39: 調査対象中小企業数(B) | F39: （３）の調査対象企業数と同じ。 ※対象(サンプル)について、偏りがない方法での抽出をお願いいたします。
B40: 調査対象率(B)/(A) | E40: =E39/E37 -> #DIV/0! | F40: ※これまでは調査対象率が50%以上必要でしたが、今回からは、50％を下回る場合でも、理由を記載いただくことで、提出可能とします。
B42: 調査対象率が５０％未満だが提出する理由
A45: （３）調査結果 | I45: 調査対象企業数 | J45: =E39 -> 0 | K45: 社
B46: ア 製品等原価、主要原材料の購入額（調査対象となった中小企業全体）
B47: (i) 主要原材料が1種の場合
B49: 主要原材料 | E49: 令和７年７月 | F49: 令和７年８月 | G49: 令和７年９月 | H49: 令和８年７月 | I49: 令和８年８月 | J49: 令和８年９月 | K49: （単位： ）
B50: ①製品等原価
B51: 平均製品等原価 | E51: =(E50+F50+G50)/3 -> 0 | H51: =(H50+I50+J50)/3 -> 0
B52: ②主要原材料等の購入額 | K52: 主要原材料等価格上昇率
B53: 平均主要原材料等購入額 | E53: =(E52+F52+G52)/3 -> 0 | H53: =(H52+I52+J52)/3 -> 0 | K53: =(H53-E53)/E53 -> #DIV/0!
B54: ③主要原材料等の利用率 (②/①) | E54: =E53/E51 -> #DIV/0! | H54: =H53/H51 -> #DIV/0!
B56: (ii) 主要原材料が２種以上の場合 | I56: 合計 | J56: =H63+H70+H77 -> #DIV/0!
B58: 主要原材料① | E58: 令和７年７月 | F58: 令和７年８月 | G58: 令和７年９月 | H58: 令和８年７月 | I58: 令和８年８月 | J58: 令和８年９月 | K58: （単位： ）
B59: ①製品等原価
B60: 平均製品等原価 | E60: =(E59+F59+G59)/3 -> 0 | H60: =(H59+I59+J59)/3 -> 0
B61: ②主要原材料等の購入額 | K61: 主要原材料等価格上昇率
B62: 平均主要原材料等購入額 | E62: =(E61+F61+G61)/3 -> 0 | H62: =(H61+I61+J61)/3 -> 0 | K62: =(H62-E62)/E62 -> #DIV/0!
B63: ③主要原材料等の利用率 (②/①) | E63: =E62/E60 -> #DIV/0! | H63: =H62/H60 -> #DIV/0!
B65: 主要原材料② | E65: 令和７年７月 | F65: 令和７年８月 | G65: 令和７年９月 | H65: 令和８年７月 | I65: 令和８年８月 | J65: 令和８年９月 | K65: （単位： ）
B66: ①製品等原価 | E66: =E59 -> 0 | F66: =F59 -> 0 | G66: =G59 -> 0 | H66: =H59 -> 0 | I66: =I59 -> 0 | J66: =J59 -> 0
B67: 平均製品等原価 | E67: =(E66+F66+G66)/3 -> 0 | H67: =(H66+I66+J66)/3 -> 0
B68: ②主要原材料等の購入額 | K68: 主要原材料等価格上昇率
B69: 平均主要原材料等購入額 | E69: =(E68+F68+G68)/3 -> 0 | H69: =(H68+I68+J68)/3 -> 0 | K69: =(H69-E69)/E69 -> #DIV/0!
B70: ③主要原材料等の利用率 (②/①) | E70: =E69/E67 -> #DIV/0! | H70: =H69/H67 -> #DIV/0!
B72: 主要原材料③ | E72: 令和７年７月 | F72: 令和７年８月 | G72: 令和７年９月 | H72: 令和８年７月 | I72: 令和８年８月 | J72: 令和８年９月 | K72: （単位： ）
B73: ①製品等原価 | E73: =E59 -> 0 | F73: =F59 -> 0 | G73: =G59 -> 0 | H73: =H59 -> 0 | I73: =I59 -> 0 | J73: =J59 -> 0
...

Sheet 別添2 仕入れ価格高騰
A1: 黄色セル：必ず記載いただきたい箇所 | K1: 別添２
A2: ベージュ色セル：必要な場合に記載いただきたい箇所
A5: 業種名： | F5: 所管： | G5: 省 | I5: 局・庁 | K5: 課・室
A7: 日本標準産業分類（第14回改訂版）
A8: 分 類 番 号： | F8: 担当者： | H8: TEL： | J8: 内線：
A13: （１）業種・業界の状況
A14: ① 主要取扱商品価格の高騰が当該業種に属する相当数の中小企業者の事業活動に支障を生じている場合には、その内容を記述。また、今後の動向についても記述。
A24: ② 主要取扱商品価格の高騰に対する業界の自主努力による対策を講じている場合には、その内容を記述。
A35: （２）調査対象中小企業の割合
C36: は、自動計算されるため入力不可。
E37: 令和８年 調査時点 （令和８年 月） | F37: 備考
B38: 中小企業数(A) | F38: 出典
F39: データが推計による場合の推計方法
B40: 調査対象中小企業数(B) | F40: （３）の調査対象企業数と同じ。 ※対象(サンプル)について、偏りがない方法での抽出をお願いいたします。
B41: 調査対象率(B)/(A) | E41: =E40/E38 -> #DIV/0! | F41: ※これまでは調査対象率が50%以上必要でしたが、今回からは、50％を下回る場合でも、理由を記載いただくことで、提出可能とします。
B43: 調査対象率が５０％未満だが提出する理由
A47: （３）調査結果 | I47: 調査対象企業数 | K47: 社
B48: ①主要取扱商品（群）価格の仕入額（調査対象となった中小企業全体）
K49: （単位： ）
E50: 令和７年７月 | F50: 令和７年８月 | G50: 令和７年９月 | H50: 令和８年７月 | I50: 令和８年８月 | J50: 令和８年９月
B51: ①全商品仕入価格
B52: 平均全商品仕入価格 | H52: =(H51+I51+J51)/3 -> 0
B53: ②主要取扱商品仕入価格 | K53: 主要取扱商品仕入価格上昇率
B54: 平均主要取扱商品仕入価格 | E54: =(E53+F53+G53)/3 -> 0 | H54: =(H53+I53+J53)/3 -> 0 | K54: =(H54-E54)/E54 -> #DIV/0!
B56: ②主要取扱商品（群）の販売額（調査対象となった中小企業全体）
K57: （単位： ）
E58: 令和７年７月 | F58: 令和７年８月 | G58: 令和７年９月 | H58: 令和８年７月 | I58: 令和８年８月 | J58: 令和８年９月
B59: 主要取扱商品販売額の動向 | K59: 主要取扱商品の販売額の上昇率
B60: 主要取扱商品販売額の動向 （平均） | E60: =(E59+F59+G59)/3 -> 0 | H60: =(H59+I59+J59)/3 -> 0 | K60: =(H60-E60)/E60 -> #DIV/0!
B63: [出典：
B65: 上記データの集計方法を具体的に記入願います。推計による場合は、その推計方法を具体的に記入願います。（必要に応じ別紙を添付して下さい）
B66: ［必要に応じ、別紙を添付］
B67: ※推計の場合は、地域が偏らない方法でお願いいたします。

Sheet 別添3 利益率の悪化
A1: 黄色セル：必ず記載いただきたい箇所 | K1: 別添３
A2: ベージュ色セル：必要な場合に記載いただきたい箇所
A5: 業種名： | F5: 所管： | G5: 省 | I5: 局・庁 | K5: 課・室
A7: 日本標準産業分類（第14回改訂版）
A8: 分 類 番 号： | F8: 担当者： | H8: TEL： | J8: 内線：
A11: （１）業種・業界の状況
A12: ① 売上高営業利益率の減少（別添１、２に該当するものを除く。以下同じ。）が当該業種に属する相当数の中小企業者の事業活動に支障を生じている場合には、その内容を記述。また、今後の動向についても記述。
A22: ② 売上高営業利益率の減少に対する業界の自主努力による対策を講じている場合には、その内容を記述。
A33: （２）調査対象中小企業の割合
C34: は、自動計算されるため入力不可。
E35: 令和８年 調査時点 （令和８年 月） | F35: 備考
B36: 中小企業数(A) | F36: 出典
F37: データが推計による場合の推計方法
B38: 調査対象中小企業数(B) | F38: （３）の調査対象企業数と同じ。 ※対象(サンプル)について、偏りがない方法での抽出をお願いいたします。
B39: 調査対象率(B)/(A) | E39: =E38/E36 -> #DIV/0! | F39: ※これまでは調査対象率が50%以上必要でしたが、今回からは、50％を下回る場合でも、理由を記載いただくことで、提出可能とします。
B41: 調査対象率が５０％未満だが提出する理由
A44: （３）調査結果（当該業種に属する中小企業者の売上高営業利益率） | I44: 調査対象企業数 | J44: =E38 -> 0 | K44: 社
C45: は、自動計算されるため入力不可。 | K45: （単位：％）
E47: 令和７年７月 | F47: 令和７年８月 | G47: 令和７年９月 | H47: 令和８年７月 | I47: 令和８年８月 | J47: 令和８年９月
B48: 売上高営業利益率 | K48: 売上高営業利益率の減少率
B49: 売上高営業利益率（平均） | E49: =(E48+F48+G48)/3 -> 0 | H49: =(H48+I48+J48)/3 -> 0 | K49: =(H49-E49)/ABS(E49) -> #DIV/0!
B54: [出典： | J54: ]
B56: 上記データの集計方法を具体的に記入願います。推計による場合は、その推計方法を具体的に記入願います。（必要に応じ別紙を添付して下さい）
B57: ［必要に応じ、別紙を添付］
B58: ※推計の場合は、地域が偏らない方法でお願いいたします。

Sheet 判定
A1: 別紙１
B2: （単一の場合）
C3: 主要原材料等の利用率 ※20％以上か。 | H3: =IF(0.2<='別添1 原材料等の価格高騰'!H54,"○","×") -> #DIV/0!
C6: 主要原材料等価格上昇率① ※20％以上か。 | H6: =IF(0.2<='別添1 原材料等の価格高騰'!K53,"○","×") -> #DIV/0! | I6: ='別添1 原材料等の価格高騰'!K53*0.6 -> #DIV/0!
C7: 製品等価格上昇率①が主要原材料等価格上昇率の60％以内か。 | J7: =IF('別添1 原材料等の価格高騰'!$K$84<=I6,"○","×") -> #DIV/0!
B10: （複数の場合）
C11: 主要原材料等の利用率（①②③計）※40％以上か。 | I11: =IF(0.4<='別添1 原材料等の価格高騰'!J56,"○","×") -> #DIV/0!
B14: ① | C14: 主要原材料等価格上昇率 ※20％以上か。 | H14: =IF(0.2<='別添1 原材料等の価格高騰'!K62,"○","×") -> #DIV/0!
B17: ② | C17: 主要原材料等価格上昇率 ※20％以上か。 | H17: =IF(0.2<='別添1 原材料等の価格高騰'!K69,"○","×") -> #DIV/0!
B19: ③ | C19: 主要原材料等価格上昇率 ※20％以上か。 | H19: =IF(0.2<='別添1 原材料等の価格高騰'!K76,"○","×") -> #DIV/0!
M20: ='別添1 原材料等の価格高騰'!E61+'別添1 原材料等の価格高騰'!E68+'別添1 原材料等の価格高騰'!E75 -> 0 | N20: ='別添1 原材料等の価格高騰'!F61+'別添1 原材料等の価格高騰'!F68+'別添1 原材料等の価格高騰'!F75 -> 0 | O20: ='別添1 原材料等の価格高騰'!G61+'別添1 原材料等の価格高騰'!G68+'別添1 原材料等の価格高騰'!G75 -> 0 | P20: ='別添1 原材料等の価格高騰'!H61+'別添1 原材料等の価格高騰'!H68+'別添1 原材料等の価格高騰'!H75 -> 0 | Q20: ='別添1 原材料等の価格高騰'!I61+'別添1 原材料等の価格高騰'!I68+'別添1 原材料等の価格高騰'!I75 -> 0 | R20: ='別添1 原材料等の価格高騰'!J61+'別添1 原材料等の価格高騰'!J68+'別添1 原材料等の価格高騰'!J75 -> 0
C21: 製品等価格上昇率①②③が主要原材料等価格上昇率の60％以内か。 | J21: =IF('別添1 原材料等の価格高騰'!$K$84<=T21,"○","×") -> #DIV/0! | M21: =(M20+N20+O20)/3 -> 0 | P21: =(P20+Q20+R20)/3 -> 0 | S21: =(P21-M21)/M21 -> #DIV/0! | T21: =S21*0.6 -> #DIV/0!
A25: 別紙２
B28: 主要取扱商品の仕入価格上昇率 ※10％以上か。 | J28: =IF(0.1<='別添2 仕入れ価格高騰'!K54,"○","×") -> #DIV/0!
B31: 販売価格に対する仕入価格の割合(令和8年度) ※50％を超えているか。 | J31: =IF(0.5<L31,"○","×") -> #DIV/0! | L31: ='別添2 仕入れ価格高騰'!H52/'別添2 仕入れ価格高騰'!H60 -> #DIV/0!
B34: 主要取扱商品販売額の上昇率が主要取扱商品仕入額の上昇率の50％以内か。 | J34: =IF('別添2 仕入れ価格高騰'!K60<=L34,"○","×") -> #DIV/0! | L34: ='別添2 仕入れ価格高騰'!K54*0.5 -> #DIV/0!
A39: 別紙３
B40: 利益率が20%以上減少している事業者 | G40: =IF('別添3 利益率の悪化'!K49<=-0.2,"○","×") -> #DIV/0!
